BEGIN:VCALENDAR
VERSION:2.0
PRODID:-//OcalaBetS Card Room &amp; Horse Wagering - ECPv6.15.20//NONSGML v1.0//EN
CALSCALE:GREGORIAN
METHOD:PUBLISH
X-ORIGINAL-URL:https://ocalabets.com
X-WR-CALDESC:Events for OcalaBetS Card Room &amp; Horse Wagering
REFRESH-INTERVAL;VALUE=DURATION:PT1H
X-Robots-Tag:noindex
X-PUBLISHED-TTL:PT1H
BEGIN:VTIMEZONE
TZID:America/New_York
BEGIN:DAYLIGHT
TZOFFSETFROM:-0500
TZOFFSETTO:-0400
TZNAME:EDT
DTSTART:20250309T070000
END:DAYLIGHT
BEGIN:STANDARD
TZOFFSETFROM:-0400
TZOFFSETTO:-0500
TZNAME:EST
DTSTART:20251102T060000
END:STANDARD
BEGIN:DAYLIGHT
TZOFFSETFROM:-0500
TZOFFSETTO:-0400
TZNAME:EDT
DTSTART:20260308T070000
END:DAYLIGHT
BEGIN:STANDARD
TZOFFSETFROM:-0400
TZOFFSETTO:-0500
TZNAME:EST
DTSTART:20261101T060000
END:STANDARD
BEGIN:DAYLIGHT
TZOFFSETFROM:-0500
TZOFFSETTO:-0400
TZNAME:EDT
DTSTART:20270314T070000
END:DAYLIGHT
BEGIN:STANDARD
TZOFFSETFROM:-0400
TZOFFSETTO:-0500
TZNAME:EST
DTSTART:20271107T060000
END:STANDARD
END:VTIMEZONE
BEGIN:VEVENT
DTSTART;TZID=America/New_York:20260216T113000
DTEND;TZID=America/New_York:20260216T233000
DTSTAMP:20260425T090001
CREATED:20231102T172850Z
LAST-MODIFIED:20231109T073205Z
UID:10009365-1771241400-1771284600@ocalabets.com
SUMMARY:OcalaBetS-ITW
DESCRIPTION:Self-Serve Available: 11:30am – Last Simulcast Race of Day\nSimulcast Calendar\nLooking for race times for your favorite thoroughbred or harness races? Check out this month’s simulcast racing calendar for all of the up to the minute race times.
URL:https://ocalabets.com/event/mutuel-teller-testing/2026-02-16/
CATEGORIES:Event calendar
ATTACH;FMTTYPE=image/jpeg:https://ocalabets.com/wp-content/uploads/2023/11/eventimage3.jpg
END:VEVENT
BEGIN:VEVENT
DTSTART;TZID=America/New_York:20260217T113000
DTEND;TZID=America/New_York:20260217T233000
DTSTAMP:20260425T090001
CREATED:20231102T172850Z
LAST-MODIFIED:20231109T073205Z
UID:10009366-1771327800-1771371000@ocalabets.com
SUMMARY:OcalaBetS-ITW
DESCRIPTION:Self-Serve Available: 11:30am – Last Simulcast Race of Day\nSimulcast Calendar\nLooking for race times for your favorite thoroughbred or harness races? Check out this month’s simulcast racing calendar for all of the up to the minute race times.
URL:https://ocalabets.com/event/mutuel-teller-testing/2026-02-17/
CATEGORIES:Event calendar
ATTACH;FMTTYPE=image/jpeg:https://ocalabets.com/wp-content/uploads/2023/11/eventimage3.jpg
END:VEVENT
BEGIN:VEVENT
DTSTART;TZID=America/New_York:20260218T113000
DTEND;TZID=America/New_York:20260218T233000
DTSTAMP:20260425T090001
CREATED:20231102T172850Z
LAST-MODIFIED:20231109T073205Z
UID:10009367-1771414200-1771457400@ocalabets.com
SUMMARY:OcalaBetS-ITW
DESCRIPTION:Self-Serve Available: 11:30am – Last Simulcast Race of Day\nSimulcast Calendar\nLooking for race times for your favorite thoroughbred or harness races? Check out this month’s simulcast racing calendar for all of the up to the minute race times.
URL:https://ocalabets.com/event/mutuel-teller-testing/2026-02-18/
CATEGORIES:Event calendar
ATTACH;FMTTYPE=image/jpeg:https://ocalabets.com/wp-content/uploads/2023/11/eventimage3.jpg
END:VEVENT
BEGIN:VEVENT
DTSTART;TZID=America/New_York:20260219T113000
DTEND;TZID=America/New_York:20260219T233000
DTSTAMP:20260425T090001
CREATED:20231102T172850Z
LAST-MODIFIED:20231109T073205Z
UID:10009368-1771500600-1771543800@ocalabets.com
SUMMARY:OcalaBetS-ITW
DESCRIPTION:Self-Serve Available: 11:30am – Last Simulcast Race of Day\nSimulcast Calendar\nLooking for race times for your favorite thoroughbred or harness races? Check out this month’s simulcast racing calendar for all of the up to the minute race times.
URL:https://ocalabets.com/event/mutuel-teller-testing/2026-02-19/
CATEGORIES:Event calendar
ATTACH;FMTTYPE=image/jpeg:https://ocalabets.com/wp-content/uploads/2023/11/eventimage3.jpg
END:VEVENT
BEGIN:VEVENT
DTSTART;TZID=America/New_York:20260220T113000
DTEND;TZID=America/New_York:20260220T233000
DTSTAMP:20260425T090001
CREATED:20231102T172850Z
LAST-MODIFIED:20231109T073205Z
UID:10009369-1771587000-1771630200@ocalabets.com
SUMMARY:OcalaBetS-ITW
DESCRIPTION:Self-Serve Available: 11:30am – Last Simulcast Race of Day\nSimulcast Calendar\nLooking for race times for your favorite thoroughbred or harness races? Check out this month’s simulcast racing calendar for all of the up to the minute race times.
URL:https://ocalabets.com/event/mutuel-teller-testing/2026-02-20/
CATEGORIES:Event calendar
ATTACH;FMTTYPE=image/jpeg:https://ocalabets.com/wp-content/uploads/2023/11/eventimage3.jpg
END:VEVENT
BEGIN:VEVENT
DTSTART;TZID=America/New_York:20260222T113000
DTEND;TZID=America/New_York:20260222T210000
DTSTAMP:20260425T090001
CREATED:20231102T194132Z
LAST-MODIFIED:20231109T073141Z
UID:10010458-1771759800-1771794000@ocalabets.com
SUMMARY:OcalaBetS-ITW
DESCRIPTION:Self-Serve Available: 11:30am – Last Simulcast Race of Day\nSimulcast Calendar\nLooking for race times for your favorite thoroughbred or harness races? Check out this month’s simulcast racing calendar for all of the up to the minute race times.
URL:https://ocalabets.com/event/mutuel-teller/2026-02-22/
CATEGORIES:Event calendar
ATTACH;FMTTYPE=image/jpeg:https://ocalabets.com/wp-content/uploads/2023/11/eventimage2.jpg
END:VEVENT
END:VCALENDAR